BEGIN:VCALENDAR
VERSION:2.0
PRODID:-//Backyard Club e.V. - ECPv6.15.20//NONSGML v1.0//EN
CALSCALE:GREGORIAN
METHOD:PUBLISH
X-ORIGINAL-URL:https://backyard-club.de
X-WR-CALDESC:Veranstaltungen für Backyard Club e.V.
REFRESH-INTERVAL;VALUE=DURATION:PT1H
X-Robots-Tag:noindex
X-PUBLISHED-TTL:PT1H
BEGIN:VTIMEZONE
TZID:Europe/Berlin
BEGIN:DAYLIGHT
TZOFFSETFROM:+0100
TZOFFSETTO:+0200
TZNAME:CEST
DTSTART:20250330T010000
END:DAYLIGHT
BEGIN:STANDARD
TZOFFSETFROM:+0200
TZOFFSETTO:+0100
TZNAME:CET
DTSTART:20251026T010000
END:STANDARD
BEGIN:DAYLIGHT
TZOFFSETFROM:+0100
TZOFFSETTO:+0200
TZNAME:CEST
DTSTART:20260329T010000
END:DAYLIGHT
BEGIN:STANDARD
TZOFFSETFROM:+0200
TZOFFSETTO:+0100
TZNAME:CET
DTSTART:20261025T010000
END:STANDARD
BEGIN:DAYLIGHT
TZOFFSETFROM:+0100
TZOFFSETTO:+0200
TZNAME:CEST
DTSTART:20270328T010000
END:DAYLIGHT
BEGIN:STANDARD
TZOFFSETFROM:+0200
TZOFFSETTO:+0100
TZNAME:CET
DTSTART:20271031T010000
END:STANDARD
END:VTIMEZONE
BEGIN:VEVENT
DTSTART;TZID=Europe/Berlin:20260610T200000
DTEND;TZID=Europe/Berlin:20260610T220000
DTSTAMP:20260420T103457
CREATED:20260123T082824Z
LAST-MODIFIED:20260330T121835Z
UID:11182-1781121600-1781128800@backyard-club.de
SUMMARY:Seedy Jeezus
DESCRIPTION:Vorankündigung: Weitere Informationen folgen
URL:https://backyard-club.de/veranstaltung/seedy-jeezus
CATEGORIES:Konzert
END:VEVENT
BEGIN:VEVENT
DTSTART;TZID=Europe/Berlin:20260612T200000
DTEND;TZID=Europe/Berlin:20260612T220000
DTSTAMP:20260420T103457
CREATED:20260223T135236Z
LAST-MODIFIED:20260223T135357Z
UID:11557-1781294400-1781301600@backyard-club.de
SUMMARY:Los Dos Cerrados
DESCRIPTION:Los Dos Cerrados – einmal Schlagzeug\, einmal Gitarre. In ihren intimen Songs liegt eine Schwermut\, die sich sehnsüchtig ausbreitet und immer wieder Unerwartetes entdecken lässt. Dabei aber immer wieder impulsive Ausbrüche und Momente unaufgelöster Spannung erzeugt. So bleibt bei aller Melancholie und dem Feingefühl doch der Eindruck: unter dem Minimal-Surf schlummert der Punk – und das im besten Sinne.
URL:https://backyard-club.de/veranstaltung/los-dos-cerrados
LOCATION:Backyard-Club e.V.\, Alte Grenzstr. 153e\, Recklinghausen\, 45663\, Germany
CATEGORIES:Konzert
ATTACH;FMTTYPE=image/jpeg:https://backyard-club.de/wp-content/uploads/2026/02/LOS-DOS-CERRADOS-THE-CHUKUKOS_24-08_2019_DS-5069.jpeg
END:VEVENT
BEGIN:VEVENT
DTSTART;TZID=Europe/Berlin:20260622T200000
DTEND;TZID=Europe/Berlin:20260622T220000
DTSTAMP:20260420T103457
CREATED:20260415T120929Z
LAST-MODIFIED:20260415T120933Z
UID:12126-1782158400-1782165600@backyard-club.de
SUMMARY:Deville
DESCRIPTION:Deville entstand 2004 aus einen Dunst aus Rock\, Metal und Stoner. Seitdem haben sie über 500 Gigs und Festivals in Schweden\, Dänemark\, Norwegen\, Finnland\, Deutschland\, den Niederlanden\, Belgien\, Österreich\, Tschechien\, Bulgarien\, der Slowakei\, Kroatien\, der Schweiz\, Frankreich\, Italien\, Litauen\, Portugal\, Griechenland\, Spanien\, Großbritannien\, Australien und in den Vereinigten Staaten gespielt. \n\n\n\nAls die Band ihre Welttournee 2020 unterbrechen musste\, entstanden neue vielseitigere Songs als bei den vorherigen Deville Platten. Es gibt immer noch die Grooves\, Hooks und harten Riffs\, für die die Band bekannt ist\, aber auch viele Metal- und Progressive-Einflüsse\, die einige Songs in unerwartete Richtungen führen – von Klangreisen bis hin zu schnellem Heavy Rock. 
URL:https://backyard-club.de/veranstaltung/deville-2
LOCATION:Backyard-Club e.V.\, Alte Grenzstr. 153e\, Recklinghausen\, 45663\, Germany
CATEGORIES:Konzert
ATTACH;FMTTYPE=image/jpeg:https://backyard-club.de/wp-content/uploads/2025/03/477364169_1182709576576284_8512047158920851251_n.jpg
END:VEVENT
BEGIN:VEVENT
DTSTART;TZID=Europe/Berlin:20260808T200000
DTEND;TZID=Europe/Berlin:20260808T220000
DTSTAMP:20260420T103457
CREATED:20260130T170927Z
LAST-MODIFIED:20260330T122033Z
UID:11278-1786219200-1786226400@backyard-club.de
SUMMARY:THE PATH OF GENESIS
DESCRIPTION:Die Genesis-TributebandVergessen Sie die Stadion-Hymnen der 80er.The Path of Genesis entführt in eine Ära\, als Genesis noch ein wunderbar seltsames Geheimnis der britischen Underground-Szene waren – ein Paralleluniversum voller skurriler Gestalten\, viktorianischer Gespenster und musikalischer Labyrinthe.Diese Show zelebriert die goldene Ära des Progressive Rock: fiebrige Klanglandschaften\, mythische Geschichten und exzentrische Charaktere. Von Peter Gabriels theatralischem Extravaganzen bis zur dichten\, hypnotischen frühen Phil-Collins-Ära – hier wird Genesis nicht einfach nachgespielt\, sondern mit allen Sinnen erforscht.Auf dem Programm stehen die großen Alben der 70er: Nursery Cryme\, Foxtrot\, Selling England by the Pound\, The Lamb Lies Down on Broadway\, Trick of the Tail und Wind & Wuthering. Alle epischen Werke werden gefeiert – darunter „Supper’s Ready“\, „Firth of Fifth“ und „The Cinema Show“. Keine Pop-Häppchen\, sondern Mellotron-Wände\, sirenenhafte Gitarrensoli\, monumentale Epen und musikalische Wunderkammern\, die das Publikum unmittelbar in eine andere Zeit katapultieren.Seit über 20 Jahren touren The Path of Genesis durch Deutschland und begeistern tausende alte und neue Fans mit Shows\, die so faszinierend wie eigenartig sind.Die Band:Donovan Aston\, britischer Sänger und Keyboarder\, Genesis-Fan der ersten Stunde\, führt souverän und augenzwinkernd durch den Abend – ganz im Geiste Peter Gabriels.Mark Wheeler\, Gitarrist und ebenfalls aus Großbritannien stammend\, verbindet eine klassische Ausbildung mit jahrzehntelanger Rock-Erfahrung und fängt damit die Spannung und Eleganz eines Steve Hackett überzeugend ein.Michael Jurkat\, der das verbindende Stück zwischen Harmonie und Rhythmus auf magische Weise mit seinem Arsenal aus Doppelhals- und Bassgitarren sowie druckvollen Basspedalen gestaltet.Michael Hahn\, Gründungsmitglied und virtuoser Drummer\, bildet das präzise\, pulsierende Rückgrat der Band\, das nötig ist\, um die ständig wechselnden Time Signatures mit spielerischer Leichtigkeit zu trommeln und die Bravour eines jungen Phil Collinsauthentisch wiederzugeben.Je nach Location werden die Konzerte von einer spektakulären Videoshow unter der Regie von Thomas Klimisch begleitet – surreale Bilder\, die das ohnehin fantastische Musikerlebnis noch verstärken. \n\n\n\nJohn Burns\, Produzent mehrerer Genesis-Alben der 70er\, schrieb über die Band:„The Path of Genesis haben ein großartiges Gefühl für die Musik von Genesis. Sie habenAtmosphäre und Sound der Originalband eingefangen – ich bin sehr beeindruckt.“Eine Nacht\, in der Genesis lebendig\, eigenwillig und unvergleichlich skurril wird – ein Erlebnis\, das man nicht vergisst und das noch lange nachklingt.www.the-path.de
URL:https://backyard-club.de/veranstaltung/the-path-of-genesis
LOCATION:Backyard-Club e.V.\, Alte Grenzstr. 153e\, Recklinghausen\, 45663\, Germany
CATEGORIES:Konzert
ATTACH;FMTTYPE=image/jpeg:https://backyard-club.de/wp-content/uploads/2026/01/Unknown-scaled.jpeg
END:VEVENT
BEGIN:VEVENT
DTSTART;TZID=Europe/Berlin:20261101T200000
DTEND;TZID=Europe/Berlin:20261101T220000
DTSTAMP:20260420T103457
CREATED:20260118T175457Z
LAST-MODIFIED:20260212T074053Z
UID:11127-1793563200-1793570400@backyard-club.de
SUMMARY:Zac Schulze Gang
DESCRIPTION:Es steht außer Frage\, dass Gitarrist und Frontmann Zac Schulze ein erstklassiger Virtuose ist\, der mit Präzision\, Geschwindigkeit und Leidenschaft spielt. Doch der Fokus des Trios liegt nicht auf seinen Soli. Die Zac Schulze Gang ist ohne Zweifel eine Gang\, eine Einheit mit einer stählernen Sensibilität\, die ihrem Rock’n’Roll eine elektrisierende Energie verleiht. Zac Schulze reitet auf dem Donner\, den die Rhythmussektion aus seinem Bruder Ben am Schlagzeug und Bassist Ant Greenwell entfesselt – gemeinsam erzeugen die drei ein gewaltiges Dröhnen\, ohne dabei die Songs aus dem Blick zu verlieren. \n\n\n\nZSG – Auszeichnungen/Erfolge \n\n\n\n\nGewinner „Young Blues Artist of the Year“ – UK Blues Awards 2025\n\n\n\nGewinner „Emerging Artist of the Year“ – UK Blues Awards 2024\n\n\n\nSupport für Samantha Fish US-Tour 18. Juli – 7. August 2024\n\n\n\nSupport für Samantha Fish UK/EU-Tour 4. – 18. Oktober 2024\n\n\n\nFestivalauftritt beim Eric Clapton Crossroads Festival 2023\n\n\n\n„Woman“ Video veröffentlicht am 3. Oktober 2024\, Single am 11. Oktober 2024\n\n\n\n„Woman“ 14 Wochen in der Planet Rock Radio A-List\n\n\n\n„Woman“ erreichte 150.000 Aufrufe auf YouTube\n\n\n\nMehrere Presseberichte (auf Anfrage)\n\n\n\n„I Won’t Do This Anymore“ Single und Video veröffentlicht am 7. Februar 2025\n\n\n\n8 Wochen in der Planet Rock Radio A-List\n\n\n\nAuszeichnung „Track of the Week“ im Classic Rock Magazine\n\n\n\n„The Rocker“ Single veröffentlicht am 27. Juni 2025\n\n\n\nAirplay bei Planet Rock Radio und Amazing Radio\n\n\n\nAusverkaufte Headline-Shows in London und Brighton (April 2025)\n\n\n\nHeadline-Auftritt im 100 Club London im September 2025\n\n\n\nMehrere anstehende EU-Festivals und Shows\n\n\n\n50 gespielte Shows in Festland-Europa (BE\, DE\, NL\, FR\, IT)\n\n\n\nHeadliner beim Ballyshannon Rory Gallagher Tribute Festival 2025\n\n\n\n Ausverkaufte Headline-Slots beim Belfast Blues Festival (Jan 2025)\, Broadstairs Blues Bash (Feb 2025) und Rory Gallagher Festival Holland (März 2025)\n\n\n\n\n\nhttps://www.mailkasten.de/wp-content/uploads/ZacSchulzeTrailer.mp4
URL:https://backyard-club.de/veranstaltung/zac-schulze-gang
LOCATION:Backyard-Club e.V.\, Alte Grenzstr. 153e\, Recklinghausen\, 45663\, Germany
ATTACH;FMTTYPE=image/jpeg:https://backyard-club.de/wp-content/uploads/2026/01/The-Zac-Schulz-Gang_Press-Shots_2024_Joshua_Atkins-8-scaled.jpg
END:VEVENT
END:VCALENDAR